BEGIN:VCALENDAR
VERSION:2.0
PRODID:-//Polytechnische Schule Pöllau - ECPv6.0.13.1//NONSGML v1.0//EN
CALSCALE:GREGORIAN
METHOD:PUBLISH
X-ORIGINAL-URL:https://www.pts-poellau.at
X-WR-CALDESC:Veranstaltungen für Polytechnische Schule Pöllau
REFRESH-INTERVAL;VALUE=DURATION:PT1H
X-Robots-Tag:noindex
X-PUBLISHED-TTL:PT1H
BEGIN:VTIMEZONE
TZID:UTC
BEGIN:STANDARD
TZOFFSETFROM:+0000
TZOFFSETTO:+0000
TZNAME:UTC
DTSTART:20230101T000000
END:STANDARD
END:VTIMEZONE
BEGIN:VEVENT
DTSTART;TZID=UTC:20230715T080000
DTEND;TZID=UTC:20230715T170000
DTSTAMP:20260426T041441
CREATED:20230530T065904Z
LAST-MODIFIED:20230530T065904Z
UID:253-1689408000-1689440400@www.pts-poellau.at
SUMMARY:Test 2
DESCRIPTION:
URL:https://www.pts-poellau.at/event/test-2/
ATTACH;FMTTYPE=:
END:VEVENT
END:VCALENDAR