BEGIN:VCALENDAR
VERSION:2.0
PRODID:-//Polytechnische Schule Pöllau - ECPv6.0.13.1//NONSGML v1.0//EN
CALSCALE:GREGORIAN
METHOD:PUBLISH
X-ORIGINAL-URL:https://www.pts-poellau.at
X-WR-CALDESC:Veranstaltungen für Polytechnische Schule Pöllau
REFRESH-INTERVAL;VALUE=DURATION:PT1H
X-Robots-Tag:noindex
X-PUBLISHED-TTL:PT1H
BEGIN:VTIMEZONE
TZID:UTC
BEGIN:STANDARD
TZOFFSETFROM:+0000
TZOFFSETTO:+0000
TZNAME:UTC
DTSTART:20230101T000000
END:STANDARD
END:VTIMEZONE
BEGIN:VEVENT
DTSTART;VALUE=DATE:20231011
DTEND;VALUE=DATE:20231012
DTSTAMP:20260425T210548
CREATED:20231011T103906Z
LAST-MODIFIED:20231011T103906Z
UID:2376-1696982400-1697068799@www.pts-poellau.at
SUMMARY:Ready for job
DESCRIPTION:
URL:https://www.pts-poellau.at/event/ready-for-job/
ATTACH;FMTTYPE=:
END:VEVENT
END:VCALENDAR