BEGIN:VCALENDAR
VERSION:2.0
PRODID:-//Polytechnische Schule Pöllau - ECPv6.0.13.1//NONSGML v1.0//EN
CALSCALE:GREGORIAN
METHOD:PUBLISH
X-ORIGINAL-URL:https://www.pts-poellau.at
X-WR-CALDESC:Veranstaltungen für Polytechnische Schule Pöllau
REFRESH-INTERVAL;VALUE=DURATION:PT1H
X-Robots-Tag:noindex
X-PUBLISHED-TTL:PT1H
BEGIN:VTIMEZONE
TZID:UTC
BEGIN:STANDARD
TZOFFSETFROM:+0000
TZOFFSETTO:+0000
TZNAME:UTC
DTSTART:20240101T000000
END:STANDARD
END:VTIMEZONE
BEGIN:VEVENT
DTSTART;VALUE=DATE:20240130
DTEND;VALUE=DATE:20240201
DTSTAMP:20260425T151810
CREATED:20240117T090003Z
LAST-MODIFIED:20240117T160110Z
UID:2669-1706572800-1706745599@www.pts-poellau.at
SUMMARY:📦 Workshop Annas Garage
DESCRIPTION:
URL:https://www.pts-poellau.at/event/%f0%9f%93%a6-workshop-annas-garage/
ATTACH;FMTTYPE=:
END:VEVENT
END:VCALENDAR