BEGIN:VCALENDAR
VERSION:2.0
PRODID:-//Polytechnische Schule Pöllau - ECPv6.0.13.1//NONSGML v1.0//EN
CALSCALE:GREGORIAN
METHOD:PUBLISH
X-WR-CALNAME:Polytechnische Schule Pöllau
X-ORIGINAL-URL:https://www.pts-poellau.at
X-WR-CALDESC:Veranstaltungen für Polytechnische Schule Pöllau
REFRESH-INTERVAL;VALUE=DURATION:PT1H
X-Robots-Tag:noindex
X-PUBLISHED-TTL:PT1H
BEGIN:VTIMEZONE
TZID:UTC
BEGIN:STANDARD
TZOFFSETFROM:+0000
TZOFFSETTO:+0000
TZNAME:UTC
DTSTART:20230101T000000
END:STANDARD
END:VTIMEZONE
BEGIN:VEVENT
DTSTART;TZID=UTC:20230911T073000
DTEND;TZID=UTC:20230911T115000
DTSTAMP:20260425T234216
CREATED:20231011T103530Z
LAST-MODIFIED:20231011T103530Z
UID:2362-1694417400-1694433000@www.pts-poellau.at
SUMMARY:Schulbeginn
DESCRIPTION:
URL:https://www.pts-poellau.at/event/schulbeginn/
ATTACH;FMTTYPE=:
END:VEVENT
BEGIN:VEVENT
DTSTART;VALUE=DATE:20230912
DTEND;VALUE=DATE:20230913
DTSTAMP:20260425T234216
CREATED:20231203T212352Z
LAST-MODIFIED:20231203T212406Z
UID:2432-1694476800-1694563199@www.pts-poellau.at
SUMMARY:Fotograf | 12.09.2023
DESCRIPTION:Gleich in der ersten Schulwoche werden Portraits und Gruppenfotos von den Schüler*innen gemacht\, damit sie ihre Bewerbungen professionell gestalten können.
URL:https://www.pts-poellau.at/event/fotograf-12-09-2023/
ATTACH;FMTTYPE=:
END:VEVENT
BEGIN:VEVENT
DTSTART;TZID=UTC:20230912T073000
DTEND;TZID=UTC:20230912T124500
DTSTAMP:20260425T234216
CREATED:20231011T103615Z
LAST-MODIFIED:20231011T103615Z
UID:2364-1694503800-1694522700@www.pts-poellau.at
SUMMARY:Schulfotograf
DESCRIPTION:
URL:https://www.pts-poellau.at/event/schulfotograf/
ATTACH;FMTTYPE=:
END:VEVENT
BEGIN:VEVENT
DTSTART;VALUE=DATE:20230918
DTEND;VALUE=DATE:20230919
DTSTAMP:20260425T234216
CREATED:20231011T103637Z
LAST-MODIFIED:20231011T103708Z
UID:2366-1694995200-1695081599@www.pts-poellau.at
SUMMARY:Exkursion - Hotel Retter\, Pöllauberg
DESCRIPTION:
URL:https://www.pts-poellau.at/event/exkursion-hotel-retter-poellauberg/
ATTACH;FMTTYPE=:
END:VEVENT
BEGIN:VEVENT
DTSTART;VALUE=DATE:20230920
DTEND;VALUE=DATE:20230921
DTSTAMP:20260425T234216
CREATED:20231011T103739Z
LAST-MODIFIED:20231011T103739Z
UID:2368-1695168000-1695254399@www.pts-poellau.at
SUMMARY:Lehrlingsbaustelle Fa. Strobl\, Weiz
DESCRIPTION:
URL:https://www.pts-poellau.at/event/lehrlingsbaustelle-fa-strobl-weiz/
ATTACH;FMTTYPE=:
END:VEVENT
BEGIN:VEVENT
DTSTART;VALUE=DATE:20230920
DTEND;VALUE=DATE:20230921
DTSTAMP:20260425T234216
CREATED:20231205T113122Z
LAST-MODIFIED:20231205T113206Z
UID:2485-1695168000-1695254399@www.pts-poellau.at
SUMMARY:Lehrlingsbaustelle – Fa. Strobl\, Weiz | 20.09.2023
DESCRIPTION:In fünf Stationen dürfen unsere Schüler*innen Tätigkeiten eines Lehrlings in verschiedenen Lehrberufen erkunden\, die bei Strobl Bau angeboten werden. So werden in der Zimmerei Zimmermannsknoten im Großformat zusammengebaut\, in der Spenglerei werden vorgeferigte Dachrinnen ab- und wieder aufgebaut sowie Vorlagen aus Blech ausgeschnitten\, an der Installateurstation gilt es\, eine bestimmte Menge an Rohren und Verbindungsstücken zu einem Fantasiegebilde zusammenzubauen und wieder in seine Einzelteile zu zerlege. Auf der Hochbauerstation müssen Ziegel in eine Scheibtruhe eingeladen und ein Laufparcours damit durchfahren werden\, auf der Elektrotechnikerstation sind zwei Schaltkreise zusammenzubauen\, sodass zum Schluss der Stromkreis funktioniert. Die einzelnen Gruppenaufgaben stellen gleichzeitig Bewerbe mit Zeitnehmung dar\, die beste Gruppe bekommt zum Schluss einen Preis verliehen. Eine köstliche Jause rundet den Besuch ab.
URL:https://www.pts-poellau.at/event/lehrlingsbaustelle-fa-strobl-weiz-20-09-2023/
ATTACH;FMTTYPE=:
END:VEVENT
BEGIN:VEVENT
DTSTART;VALUE=DATE:20230920
DTEND;VALUE=DATE:20230921
DTSTAMP:20260425T234216
CREATED:20231205T113919Z
LAST-MODIFIED:20231205T113919Z
UID:2522-1695168000-1695254399@www.pts-poellau.at
SUMMARY:Lehrlingsbaustelle – Fa. Strobl\, Weiz | 20.09.2023
DESCRIPTION:In fünf Stationen dürfen unsere Schüler*innen Tätigkeiten eines Lehrlings in verschiedenen Lehrberufen erkunden\, die bei Strobl Bau angeboten werden. So werden in der Zimmerei Zimmermannsknoten im Großformat zusammengebaut\, in der Spenglerei werden vorgeferigte Dachrinnen ab- und wieder aufgebaut sowie Vorlagen aus Blech ausgeschnitten\, an der Installateurstation gilt es\, eine bestimmte Menge an Rohren und Verbindungsstücken zu einem Fantasiegebilde zusammenzubauen und wieder in seine Einzelteile zu zerlege. Auf der Hochbauerstation müssen Ziegel in eine Scheibtruhe eingeladen und ein Laufparcours damit durchfahren werden\, auf der Elektrotechnikerstation sind zwei Schaltkreise zusammenzubauen\, sodass zum Schluss der Stromkreis funktioniert. Die einzelnen Gruppenaufgaben stellen gleichzeitig Bewerbe mit Zeitnehmung dar\, die beste Gruppe bekommt zum Schluss einen Preis verliehen. Eine köstliche Jause rundet den Besuch ab.
URL:https://www.pts-poellau.at/event/lehrlingsbaustelle-fa-strobl-weiz-20-09-2023-2/
ATTACH;FMTTYPE=:
END:VEVENT
BEGIN:VEVENT
DTSTART;VALUE=DATE:20230928
DTEND;VALUE=DATE:20230929
DTSTAMP:20260425T234216
CREATED:20231011T103811Z
LAST-MODIFIED:20231011T103811Z
UID:2370-1695859200-1695945599@www.pts-poellau.at
SUMMARY:Betriebsvorstellungen: Fa. Spitzer\, Vorau; Fa Imerys Talc\, Rabenwald
DESCRIPTION:
URL:https://www.pts-poellau.at/event/betriebsvorstellungen-fa-spitzer-vorau-fa-imerys-talc-rabenwald/
ATTACH;FMTTYPE=:
END:VEVENT
END:VCALENDAR